BEGIN:VCALENDAR
VERSION:2.0
PRODID:-//eventon.com NONSGML v1.0//EN
CALSCALE:GREGORIAN
METHOD:PUBLISH
BEGIN:VEVENT
UID:69e62811890fc
DTSTAMP:20260420T132017Z
DTSTART:20200512T100000Z
DTEND:20200512T110000Z
LOCATION:
SUMMARY:WEBINAR DINAMO NETWORSKS - Desafios e benefÃ­cios do PIX
DESCRIPTION:Webinars abordam cenÃ¡rio do novo sistema de pagamento instantÃ
 ¢neo nos dias 12 e 15 de maio e reunirÃ£o gestores e profissionais da Ã¡rea
  Financeira &nbsp; Webinar do dia 12 de maio de 2020 AÂ DINAMO Networks\,  
 especialista em seguranÃ§a de identidade digital e criptografia\,  promover
 Ã¡Â no dia 12 de maio oÂ webinar &#8220;Desafios[..]\nhttps://cryptoid.com.
 br/eventos/webinar-dinamo-networsks-desafios-e-beneficios-do-pix/
URL:https://cryptoid.com.br/eventos/webinar-dinamo-networsks-desafios-e-beneficios-do-pix/
END:VEVENT
END:VCALENDAR