BEGIN:VCALENDAR
VERSION:2.0
PRODID:-//eventon.com NONSGML v1.0//EN
CALSCALE:GREGORIAN
METHOD:PUBLISH
BEGIN:VEVENT
UID:69ebffd1b68bd
DTSTAMP:20260424T234209Z
DTSTART:20200515T100000Z
DTEND:20200515T110000Z
LOCATION:
SUMMARY:WEBINAR DINAMO NETWORSKS - Qual é o modelo de negócio do PIX
DESCRIPTION:O Webinar aborda cenário do novo sistema de pagamento instant
 neo nos dia 15 de maio e reunirão gestores e profissionais da área Finan
 ceira Webinar do dia 15 de maio de 2020 “Qual é o modelo de negócio d
 o PIX” No dia 15 do mesmo mês\,  o webinar reunirá especialista do seto
 r\,  e[..]\nhttps://cryptoid.com.br/eventos/webinar-dinamo-networsks-qual-e
 -o-modelo-de-negocio-do-pix/
URL:https://cryptoid.com.br/eventos/webinar-dinamo-networsks-qual-e-o-modelo-de-negocio-do-pix/
END:VEVENT
END:VCALENDAR