BEGIN:VCALENDAR
VERSION:2.0
PRODID:-//eventon.com NONSGML v1.0//EN
CALSCALE:GREGORIAN
METHOD:PUBLISH
BEGIN:VEVENT
UID:69e929cd431bf
DTSTAMP:20260422T200429Z
DTSTART:20200528T110000Z
DTEND:20200528T120000Z
LOCATION:WEBINAR THALES
SUMMARY:Webinar da Thales: Gerenciar o Acesso com Segurança é Crucial para Enfrentar os Desafios Atuais
DESCRIPTION:No novo ambiente global\,  onde trabalho remoto\,  serviços di
 gitais\,  o potencial da nuvem e crimes cibernéticos se tornam um desafio 
 estratégico em qualquer empresa\,  o gerenciamento do acesso seguro do usu
 ário a aplicativos corporativos é crucial para obter e manter uma vantage
 m competitiva. &nbsp; [button link=&#8221;https://www.brighttalk.com/webcas
 t/2037/408339?utm_source=Thales&amp;utm_medium=brighttalk&amp;utm_campaign=
 408339&#8243; icon=&#8221;fa-calendar&#8221; side=&#8221;left&#8221; target
 =&#8221;&#8221; color=&#8221;0f14b7&#8243;[..]\nhttps://cryptoid.com.br/eve
 ntos/webinar-da-thales-gerenciar-o-acesso-com-seguranca-e-crucial-para-enfr
 entar-os-desafios-atuais/
URL:https://cryptoid.com.br/eventos/webinar-da-thales-gerenciar-o-acesso-com-seguranca-e-crucial-para-enfrentar-os-desafios-atuais/
END:VEVENT
END:VCALENDAR