BEGIN:VCALENDAR
VERSION:2.0
PRODID:-//eventon.com NONSGML v1.0//EN
CALSCALE:GREGORIAN
METHOD:PUBLISH
BEGIN:VEVENT
UID:69ecae2876a2f
DTSTAMP:20260425T120600Z
DTSTART:20200826T090000Z
DTEND:20200828T180000Z
LOCATION:
SUMMARY:Digitalks Expo 2020
DESCRIPTION: O mundo mudou… virou de ponta cabeça! Humanos mais distant
 es\,  e mais próximos ao mesmo tempo. Hábitos de consumo transformados…
  para sempre! A Transformação Digital está acelerada e os negócios deve
 m continuar!  Para se adaptar ao momento atual vamos ficar em casa. Em 202
 0\,  o Digitalks Expo acontecerá online e[..]\nhttps://cryptoid.com.br/eve
 ntos/digitalks-expo-2020/
URL:https://cryptoid.com.br/eventos/digitalks-expo-2020/
END:VEVENT
END:VCALENDAR