BEGIN:VCALENDAR
VERSION:2.0
PRODID:-//eventon.com NONSGML v1.0//EN
CALSCALE:GREGORIAN
METHOD:PUBLISH
BEGIN:VEVENT
UID:69e795394a5cc
DTSTAMP:20260421T151817Z
DTSTART:20201026T090000Z
DTEND:20201030T180000Z
LOCATION:
SUMMARY:Futurecom Digital Week
DESCRIPTION:Uma semana digital gratuita\,  dedicada a inovação do setor 
 de tecnologia nos mais variados segmentos\,  com opções de conteúdo\, 
  experiência e networking. Em vista do novo cenário que vivemos\,  o Futu
 recom se adapta a nova realidade e oferta projetos que mantém o propósito
  de conectar pessoas\,  negócios e tecnologias\,  promovendo o ecossistema
  do[..]\nhttps://cryptoid.com.br/eventos/futurecom-digital-week/
URL:https://cryptoid.com.br/eventos/futurecom-digital-week/
END:VEVENT
END:VCALENDAR