BEGIN:VCALENDAR
VERSION:2.0
PRODID:-//eventon.com NONSGML v1.0//EN
CALSCALE:GREGORIAN
METHOD:PUBLISH
BEGIN:VEVENT
UID:69ea5f7b2bf21
DTSTAMP:20260423T180547Z
DTSTART:20201116T090000Z
DTEND:20201118T180000Z
LOCATION:
SUMMARY:Identity Week Virtual
DESCRIPTION:IDENTITY WEEK VIRTUAL  São três eventos em um! Digital:ID \
 ,  Planet Biometrics e SDW Todos os paines dos eventos são focados no con
 ceito de identidade digital O evneto IDENTITY WEEK VIRTUAL tem como objetiv
 o ajudar a criar um mundo mais seguro\,  onde soluções de identidade conf
 iáveis permitem que governos e organizações comerciais[..]\nhttps://cryp
 toid.com.br/eventos/identity-week-virtual/
URL:https://cryptoid.com.br/eventos/identity-week-virtual/
END:VEVENT
END:VCALENDAR