BEGIN:VCALENDAR
VERSION:2.0
PRODID:-//eventon.com NONSGML v1.0//EN
CALSCALE:GREGORIAN
METHOD:PUBLISH
BEGIN:VEVENT
UID:69e87a2117f37
DTSTAMP:20260422T073457Z
DTSTART:20201119T090000Z
DTEND:20201119T180000Z
LOCATION:
SUMMARY:Mobi ID acontece On-line dia 19 de novembro de 2020
DESCRIPTION:19 de NOVEMBRO DE 2020 – edição digital Seminário dedicado
  ao universo da identificação e da autenticação digitais. Quais os desa
 fios para o gerenciamento de identidades digitais? Quais as diferentes téc
 nicas para identificação e autenticação digitais de usuários\,  quais 
 as vantagens e desvantagens de cada solução e suas perspectivas de[..]\nh
 ttps://cryptoid.com.br/eventos/mobil-id-acontece-online-dia-19-de-novembro-
 de-2020/
URL:https://cryptoid.com.br/eventos/mobil-id-acontece-online-dia-19-de-novembro-de-2020/
END:VEVENT
END:VCALENDAR