BEGIN:VCALENDAR
VERSION:2.0
PRODID:-//eventon.com NONSGML v1.0//EN
CALSCALE:GREGORIAN
METHOD:PUBLISH
BEGIN:VEVENT
UID:69e76d9fd0bc1
DTSTAMP:20260421T122919Z
DTSTART:20210225T150000Z
DTEND:20210225T160000Z
LOCATION:
SUMMARY:Arcserve Webcast - 25 de Fevereiro de 2021
DESCRIPTION:REGISTRE-SE AGORA! [spacer color=&#8221;BAC0C2&#8243; icon=&#82
 21;Select a Icon&#8221; style=&#8221;1&#8243;] Como proteger os dados da su
 a empresa de maneira flexível [spacer color=&#8221;BAC0C2&#8243; icon=&#82
 21;Select a Icon&#8221; style=&#8221;1&#8243;] Participe desse evento e con
 heça as amplas soluções para proteção de dados e backup para empresas 
 de todos os tamanhos fornecidas pela Arcserve. O portfólio conta[..]\nhttp
 s://cryptoid.com.br/eventos/arcserve-webcast/
URL:https://cryptoid.com.br/eventos/arcserve-webcast/
END:VEVENT
END:VCALENDAR