BEGIN:VCALENDAR
VERSION:2.0
PRODID:-//eventon.com NONSGML v1.0//EN
CALSCALE:GREGORIAN
METHOD:PUBLISH
BEGIN:VEVENT
UID:69ebd9712f845
DTSTAMP:20260424T205825Z
DTSTART:20210225T110000Z
DTEND:20210225T120000Z
LOCATION:
SUMMARY:Proteção cibernética e o PIX - Como garantir arquitetura de segurança nos pagamentos instantâneos
DESCRIPTION:Com o objetivo de promover debate sobre o impacto do PIX no mer
 cado brasileiro\,  a Matera e a Kryptus realizarão um webinar gratuito no 
 dia 25 de fevereiro. [spacer color=&#8221;FFFAFA&#8221; icon=&#8221;Select 
 a Icon&#8221; style=&#8221;1&#8243;] Os participantes terão oportunidade d
 e esclarecer dúvidas e enviar perguntas sobre as expectativas de aumento d
 os[..]\nhttps://cryptoid.com.br/eventos/protecao-cibernetica-e-o-pix-como-g
 arantir-arquitetura-de-seguranca-nos-pagamentos-instantaneos/
URL:https://cryptoid.com.br/eventos/protecao-cibernetica-e-o-pix-como-garantir-arquitetura-de-seguranca-nos-pagamentos-instantaneos/
END:VEVENT
END:VCALENDAR