BEGIN:VCALENDAR
VERSION:2.0
PRODID:-//eventon.com NONSGML v1.0//EN
CALSCALE:GREGORIAN
METHOD:PUBLISH
BEGIN:VEVENT
UID:69e939bc33e7a
DTSTAMP:20260422T211228Z
DTSTART:20210310T150000Z
DTEND:20210310T163000Z
LOCATION:
SUMMARY:Arcserve Unlimited ao vivo
DESCRIPTION:Em novo webinar\,  que acontecerá no dia 10 de março as 15h n
 o horário de Brasilia\,  a Arcserve reune seus líderes mundiais e especia
 listas regionais De maneira totalmente ao vivo\,  a empresa Arcserve\,  ref
 erência na proteção de ativos digitais\,  ira apresentar evento digital 
 e totalmente ao vivo para falar sobre[..]\nhttps://cryptoid.com.br/eventos/
 arcserve-unlimited-ao-vivo/
URL:https://cryptoid.com.br/eventos/arcserve-unlimited-ao-vivo/
END:VEVENT
END:VCALENDAR