BEGIN:VCALENDAR
VERSION:2.0
PRODID:-//eventon.com NONSGML v1.0//EN
CALSCALE:GREGORIAN
METHOD:PUBLISH
BEGIN:VEVENT
UID:69e95c55a13d6
DTSTAMP:20260422T234005Z
DTSTART:20210323T170000Z
DTEND:20210325T180000Z
LOCATION:
SUMMARY:14º CMEP - Congresso de meios eletrônicos de pagamento
DESCRIPTION:O mercado de meios eletrônicos de pagamento movimenta mais de 
 R$ 2 trilhões por ano e não para de crescer. [spacer color=&#8221;EBE8E9&
 #8243; icon=&#8221;Select a Icon&#8221; style=&#8221;1&#8243;] CMEP é o Co
 ngresso de Meios Eletrônicos de Pagamento\,  realizado anualmente pela Abe
 cs\,  associação que representa as empresas do setor. O evento reúne exe
 cutivos[..]\nhttps://cryptoid.com.br/eventos/14o-cmep-congresso-de-meios-el
 etronicos-de-pagamento/
URL:https://cryptoid.com.br/eventos/14o-cmep-congresso-de-meios-eletronicos-de-pagamento/
END:VEVENT
END:VCALENDAR