BEGIN:VCALENDAR
VERSION:2.0
PRODID:-//eventon.com NONSGML v1.0//EN
CALSCALE:GREGORIAN
METHOD:PUBLISH
BEGIN:VEVENT
UID:69e99730bdec2
DTSTAMP:20260423T035112Z
DTSTART:20210324T090000Z
DTEND:20210324T170000Z
LOCATION:
SUMMARY:BR-UK Tech Summit
DESCRIPTION:O Brazil-UK Tech Summit apresenta em sua terceira edição como
  tema central Govtech for Digital Innovation: O papel do setor de inovaçã
 o para tornar a gestão pública mais transparente\,  ágil e próximo ao c
 idadão. [button link=&#8221;&#8221; icon=&#8221;Select a Icon&#8221; side=
 &#8221;left&#8221; target=&#8221;&#8221; color=&#8221;1abfff&#8221; textcol
 or=&#8221;ffffff&#8221;]VEJA MAIS DETALHES SOBRE O EVENTO[/button] O evento
 [..]\nhttps://cryptoid.com.br/eventos/br-uk-tech-summit/
URL:https://cryptoid.com.br/eventos/br-uk-tech-summit/
END:VEVENT
END:VCALENDAR