BEGIN:VCALENDAR
VERSION:2.0
PRODID:-//eventon.com NONSGML v1.0//EN
CALSCALE:GREGORIAN
METHOD:PUBLISH
BEGIN:VEVENT
UID:69e898ad9ce75
DTSTAMP:20260422T094517Z
DTSTART:20210928
DTEND:20210929
LOCATION:
SUMMARY:Cyber Security Summit Brasil 2021
DESCRIPTION:O evento que trará assuntos inéditos contará com a participa
 ção de mais de 40 grandes nomes da comunidade mundial de segurança ciber
 nética No início desta semana\,  a mais importante conferência internaci
 onal de cibersegurança\,  a Cyber Security Summit Brasil (CSSB)\,  abriu a
 s inscrições para a sua quinta edição. O evento acontecerá[..]\nhttps:
 //cryptoid.com.br/eventos/cyber-security-summit-brasil-2021/
URL:https://cryptoid.com.br/eventos/cyber-security-summit-brasil-2021/
END:VEVENT
END:VCALENDAR