BEGIN:VCALENDAR
VERSION:2.0
PRODID:-//eventon.com NONSGML v1.0//EN
CALSCALE:GREGORIAN
METHOD:PUBLISH
BEGIN:VEVENT
UID:69e6dd2bad057
DTSTAMP:20260421T021259Z
DTSTART:20210622T090000Z
DTEND:20210625T090000Z
LOCATION:
SUMMARY:CIAB FEBRABAN 2021 - Acontece em Junho e terÃ¡ acesso aberto e gratuito. Inscreva-se!
DESCRIPTION:CIAB FEBRABAN 2021 em formato digital e gratuito tem data confi
 rmada [spacer color=&#8221;FFFFFF&#8221; icon=&#8221;fa-th-list&#8221; styl
 e=&#8221;1&#8243;] O CIAB FEBRABAN Ã© o maior evento de tecnologia e inovaÃ
 §Ã£o do setor mais tecnolÃ³gico do paÃ­s. Em sua 31Âª ediÃ§Ã£o\,  o encontr
 o reÃºne neste ano\,  em formato digital e gratuito\,  referÃªncias do seto
 r financeiro[..]\nhttps://cryptoid.com.br/eventos/ciab-febraban-2021-aconte
 ce-em-junho-e-tera-acesso-aberto-e-gratuito-inscreva-se/
URL:https://cryptoid.com.br/eventos/ciab-febraban-2021-acontece-em-junho-e-tera-acesso-aberto-e-gratuito-inscreva-se/
END:VEVENT
END:VCALENDAR