BEGIN:VCALENDAR
VERSION:2.0
PRODID:-//eventon.com NONSGML v1.0//EN
CALSCALE:GREGORIAN
METHOD:PUBLISH
BEGIN:VEVENT
UID:69e7315cbd9c1
DTSTAMP:20260421T081212Z
DTSTART:20210624T100000Z
DTEND:20210624T170000Z
LOCATION:
SUMMARY:Webinar DINAMO Networks: “Criptografia e a Nuvem”
DESCRIPTION:DINAMO Networks promove webinar sobre criptografia em nuvem DIN
 AMO Networks evento on-line\,  no dia 24 de junho\,  revela importância da
  criptografia para proteção de dados A criptografia já é uma realidade 
 por ser uma solução eficaz na proteção e sigilo de dados\,  em conformi
 dade com a legislação brasileira. Após um[..]\nhttps://cryptoid.com.br/e
 ventos/webinar-dinamo-networks-criptografia-e-a-nuvem/
URL:https://cryptoid.com.br/eventos/webinar-dinamo-networks-criptografia-e-a-nuvem/
END:VEVENT
END:VCALENDAR