BEGIN:VCALENDAR
VERSION:2.0
PRODID:-//eventon.com NONSGML v1.0//EN
CALSCALE:GREGORIAN
METHOD:PUBLISH
BEGIN:VEVENT
UID:69e9a0158653c
DTSTAMP:20260423T042909Z
DTSTART:20220214T140000Z
DTEND:20220218T180000Z
LOCATION:Transamerica Expo Center - São Paulo Avenida Doutor Mário Vilas Boas Rodrigues\,  387\,  Santo Amaro – São Paulo/SP
SUMMARY:19ª CONESCAP e 27ª CONVECON em 2022
DESCRIPTION:“Entender as mudanças. Transformar as pessoas. Adaptar os Ne
 gócios” &nbsp; A 19ª CONESCAP | 27ª CONVECON é um evento sobre inova
 ão\,  gestão\,  tecnologia\,  mas principalmente\,  pessoas. E pessoas 
 precisam de contato\,  de união\,  de esperança. &nbsp; Este é o tema da
  19ª CONESCAP e 27ª CONVECON que ocorrerá de 14 a[..]\nhttps://cryptoid.
 com.br/eventos/19a-conescap-e-27a-convecon-em-2022/
URL:https://cryptoid.com.br/eventos/19a-conescap-e-27a-convecon-em-2022/
END:VEVENT
END:VCALENDAR