BEGIN:VCALENDAR
VERSION:2.0
PRODID:-//eventon.com NONSGML v1.0//EN
CALSCALE:GREGORIAN
METHOD:PUBLISH
BEGIN:VEVENT
UID:69e736089f990
DTSTAMP:20260421T083208Z
DTSTART:20220323T083000Z
DTEND:20220324T130000Z
LOCATION:
SUMMARY:Brasscom TecFórum 
DESCRIPTION:O Brasscom TecFórum é o mais aguardado evento brasileiro so
 bre transformação digital e\,  em 2022\,  será totalmente online. O even
 to se consolidou como um espaço de diálogo e reflexão com os principais 
 tomadores de decisão do setor de tecnologia. Agentes públicos e privados 
 reunidos para discutir tecnologia\,  políticas públicas e governo digital
 .[..]\nhttps://cryptoid.com.br/eventos/brasscom-tecforum/
URL:https://cryptoid.com.br/eventos/brasscom-tecforum/
END:VEVENT
END:VCALENDAR