BEGIN:VCALENDAR
VERSION:2.0
PRODID:-//eventon.com NONSGML v1.0//EN
CALSCALE:GREGORIAN
METHOD:PUBLISH
BEGIN:VEVENT
UID:69e9e3f530be2
DTSTAMP:20260423T091845Z
DTSTART:20220325T083000Z
DTEND:20220326T190000Z
LOCATION:
SUMMARY:CNPPD 2022
DESCRIPTION:Organizado pela Associação Nacional dos Profissionais em Priv
 acidade de Dados – ANPPD\,  o CNPPD reunirá os mais renomados profission
 ais de privacidade nacionais e internacionais para compartilharem o que as 
 empresas já fizeram sobre a LGPD. Prepare-se para o CNPPD2022! #cnppd2022!
  Em sua 3ª edição\,  o evento continuará a série de[..]\nhttps://crypt
 oid.com.br/eventos/cnppd-2022/
URL:https://cryptoid.com.br/eventos/cnppd-2022/
END:VEVENT
END:VCALENDAR