BEGIN:VCALENDAR
VERSION:2.0
PRODID:-//eventon.com NONSGML v1.0//EN
CALSCALE:GREGORIAN
METHOD:PUBLISH
BEGIN:VEVENT
UID:69e8875e5a7e6
DTSTAMP:20260422T083126Z
DTSTART:20220901T090000Z
DTEND:20220904T190000Z
LOCATION:Pier Mauá Pier Mauá - Av. Rodrigues Alves\,  10
SUMMARY:Blockchain Rio Festival 2022
DESCRIPTION:De 1º a 4 de setembro de 2022\,  na cidade do Rio de janeiro &
 #8211; Brasil\,  será realizado o maior evento da América Latina sobre Bl
 ockchain [spacer color=&#8221;DDDDDD&#8221; icon=&#8221;Select a Icon&#8221
 ; style=&#8221;1&#8243;] O Blockchain Rio apresenta uma mistura dinâmica d
 e tecnologia pioneira\,  empresários e acadêmicos que estão na vanguarda
 \,  pavimentando[..]\nhttps://cryptoid.com.br/eventos/blockchain-rio-festiv
 al-2022/
URL:https://cryptoid.com.br/eventos/blockchain-rio-festival-2022/
END:VEVENT
END:VCALENDAR