BEGIN:VCALENDAR
VERSION:2.0
PRODID:-//eventon.com NONSGML v1.0//EN
CALSCALE:GREGORIAN
METHOD:PUBLISH
BEGIN:VEVENT
UID:69e8875e47e59
DTSTAMP:20260422T083126Z
DTSTART:20220809T090000Z
DTEND:20220811T200000Z
LOCATION:Fundação Bienal de São Paulo Av. Pedro Álvares Cabral\,  s/n - Moema\,  São Paulo - SP\,  04094-050
SUMMARY:FEBRABAN TECH 2022\,  O NOVO CIAB
DESCRIPTION:FEBRABAN TECH 2022\,  o novo CIAB [spacer color=&#8221;EDEBEB&#
 8221; icon=&#8221;Select a Icon&#8221; style=&#8221;1&#8243;] O FEBRABAN TE
 CH 2022\,  maior evento de inovação do setor financeiro na América Latin
 a\,  mais uma vez abre as portas para as fintechs O CIAB FEBRABAN\,  maior 
 evento de tecnologia e inovação do setor financeiro da América Latina\, 
 [..]\nhttps://cryptoid.com.br/eventos/fintech-lounge-2022/
URL:https://cryptoid.com.br/eventos/fintech-lounge-2022/
END:VEVENT
END:VCALENDAR