BEGIN:VCALENDAR
VERSION:2.0
PRODID:-//eventon.com NONSGML v1.0//EN
CALSCALE:GREGORIAN
METHOD:PUBLISH
BEGIN:VEVENT
UID:69e898ad19dd5
DTSTAMP:20260422T094517Z
DTSTART:20221018T090000Z
DTEND:20221020T180000Z
LOCATION:
SUMMARY:CISO Forum Brazil 2022
DESCRIPTION:CISO Forum Brazil 2022 é um Fórum Executivo Exclusivo Focado 
 em Liderança e Estratégia de Segurança da Informação [spacer color=&#
 8221;FFFFFF&#8221; icon=&#8221;Select a Icon&#8221; style=&#8221;1&#8243;] 
 CISO Forum Brazil 2022 vai trazer as últimas inovações que estão transf
 ormando a cibersegurança no Brasil e no Mundo. [spacer color=&#8221;FFFFFF
 &#8221; icon=&#8221;Select a Icon&#8221; style=&#8221;1&#8243;] É cada[..]
 \nhttps://cryptoid.com.br/eventos/ciso-forum-brazil-2022/
URL:https://cryptoid.com.br/eventos/ciso-forum-brazil-2022/
END:VEVENT
END:VCALENDAR