BEGIN:VCALENDAR
VERSION:2.0
PRODID:-//eventon.com NONSGML v1.0//EN
CALSCALE:GREGORIAN
METHOD:PUBLISH
BEGIN:VEVENT
UID:69e8a75798e86
DTSTAMP:20260422T104751Z
DTSTART:20221018T100000Z
DTEND:20221020T200000Z
LOCATION:SÃ£o Paulo Expo Center  Rodovia dos Imigrantes\,  km 1.5 - 04329-90
SUMMARY:FUTURECOM 2022
DESCRIPTION:OÂ FuturecomÂ o maior evento deÂ Tecnologia\,  transformaÃ§Ã£o 
 e digital e telecomunicaÃ§Ãµes daÂ AmÃ©rica LatinaÂ e se torna um evento hÃ
 ­brido\,  integrando o ambiente fÃ­sico e sua plataforma digital\,  amplian
 do seu alcance e potencializando as possibilidades de relacionamento. [spac
 er color=&#8221;E0DCDE&#8221; icon=&#8221;Select a Icon&#8221; style=&#8221
 ;1&#8243;] SerÃ¡ umaÂ experiÃªncia 360ÂºÂ especialmente preparada para vocÃ
 ª! O evento presencial serÃ¡ realizado[..]\nhttps://cryptoid.com.br/eventos
 /futurecom-2022/
URL:https://cryptoid.com.br/eventos/futurecom-2022/
END:VEVENT
END:VCALENDAR